BEGIN:VCALENDAR
VERSION:2.0
PRODID:-//Sound Healing Los Cabos - ECPv6.15.10//NONSGML v1.0//EN
CALSCALE:GREGORIAN
METHOD:PUBLISH
X-ORIGINAL-URL:https://soundhealingloscabos.com
X-WR-CALDESC:Eventos para Sound Healing Los Cabos
REFRESH-INTERVAL;VALUE=DURATION:PT1H
X-Robots-Tag:noindex
X-PUBLISHED-TTL:PT1H
BEGIN:VTIMEZONE
TZID:America/Mazatlan
BEGIN:STANDARD
TZOFFSETFROM:-0700
TZOFFSETTO:-0700
TZNAME:MST
DTSTART:20250101T000000
END:STANDARD
END:VTIMEZONE
BEGIN:VEVENT
DTSTART;TZID=America/Mazatlan:20260202T190000
DTEND;TZID=America/Mazatlan:20260202T200000
DTSTAMP:20260419T065927
CREATED:20260104T213306Z
LAST-MODIFIED:20260104T213306Z
UID:9621-1770058800-1770062400@soundhealingloscabos.com
SUMMARY:Luna llena en hamacas
DESCRIPTION:Acompáñanos a conectar con la energía de la luna llena de Febrero. \n¡Vive la mágica experiencia!\nCrear una experiencia única de sanación y relajación profunda durante la luna llena\, utilizando el poder del sonido y la vibración en un entorno de hamacas que invite al descanso\, la introspección y la renovación energética.
URL:https://soundhealingloscabos.com/evento/luna-llena-en-hamacas-4/
LOCATION:Sound Healing Los Cabos\, Plaza San Basilio\, Gral. Juan Álvarez Local 23\, Piso 3\, Ampliación Juárez\,\, Cabo San Lucas\, B.C.S.\, 23469\, Mexico
CATEGORIES:Luna Llena
ATTACH;FMTTYPE=image/png:https://soundhealingloscabos.com/wp-content/uploads/2025/09/EstudioLunaLLena-scaled-e1758242222121.png
ORGANIZER;CN="Sound Healing Los Cabos":MAILTO:info@soundhealingloscabos.com
END:VEVENT
BEGIN:VEVENT
DTSTART;TZID=America/Mazatlan:20260207T080000
DTEND;TZID=America/Mazatlan:20260207T090000
DTSTAMP:20260419T065927
CREATED:20260111T203217Z
LAST-MODIFIED:20260111T203217Z
UID:9642-1770451200-1770454800@soundhealingloscabos.com
SUMMARY:Hammock Beachside
DESCRIPTION:MORNING VIBES | SOUND HEALING EN HAMACAS \n(SESION DE SOUND HEALING EN HAMACA + DAY PASS + DESCUENTO DEL 20% EN COMIDA Y BEBIDA) \nCOSTO LOCALES: $1599.00 YA CON IMPUESTOS INCLUIDOS \nCOSTO HUESPED: 2×1 en sesión de Sound Healing = 90.00 USD MAS TAX.
URL:https://soundhealingloscabos.com/evento/hammock-beachside-15/
LOCATION:Hilton Los Cabos\, Carr. Transpeninsular\, Tourist Corridor\,\, Cabo San Lucas\, B.C.S.\, 23400\, Mexico
CATEGORIES:Beachide Hammock
ATTACH;FMTTYPE=image/jpeg:https://soundhealingloscabos.com/wp-content/uploads/2025/06/IMG_8673-copia-scaled-e1758238584915.jpg
ORGANIZER;CN="Sound Healing Los Cabos":MAILTO:info@soundhealingloscabos.com
END:VEVENT
BEGIN:VEVENT
DTSTART;TZID=America/Mazatlan:20260214T080000
DTEND;TZID=America/Mazatlan:20260214T090000
DTSTAMP:20260419T065927
CREATED:20260111T203447Z
LAST-MODIFIED:20260111T203447Z
UID:9645-1771056000-1771059600@soundhealingloscabos.com
SUMMARY:Hammock Beachside
DESCRIPTION:MORNING VIBES | SOUND HEALING EN HAMACAS \n(SESION DE SOUND HEALING EN HAMACA + DAY PASS + DESCUENTO DEL 20% EN COMIDA Y BEBIDA) \nCOSTO LOCALES: $1599.00 YA CON IMPUESTOS INCLUIDOS \nCOSTO HUESPED: 2×1 en sesión de Sound Healing = 90.00 USD MAS TAX.
URL:https://soundhealingloscabos.com/evento/hammock-beachside-16/
LOCATION:Hilton Los Cabos\, Carr. Transpeninsular\, Tourist Corridor\,\, Cabo San Lucas\, B.C.S.\, 23400\, Mexico
CATEGORIES:Beachide Hammock
ATTACH;FMTTYPE=image/jpeg:https://soundhealingloscabos.com/wp-content/uploads/2025/06/IMG_8673-copia-scaled-e1758238584915.jpg
ORGANIZER;CN="Sound Healing Los Cabos":MAILTO:info@soundhealingloscabos.com
END:VEVENT
BEGIN:VEVENT
DTSTART;TZID=America/Mazatlan:20260221T080000
DTEND;TZID=America/Mazatlan:20260221T093000
DTSTAMP:20260419T065927
CREATED:20260111T203756Z
LAST-MODIFIED:20260111T203756Z
UID:9649-1771660800-1771666200@soundhealingloscabos.com
SUMMARY:Hammock Beachside
DESCRIPTION:MORNING VIBES | SOUND HEALING EN HAMACAS \n(SESION DE SOUND HEALING EN HAMACA + DAY PASS + DESCUENTO DEL 20% EN COMIDA Y BEBIDA) \nCOSTO LOCALES: $1599.00 YA CON IMPUESTOS INCLUIDOS \nCOSTO HUESPED: 2×1 en sesión de Sound Healing = 90.00 USD MAS TAX.
URL:https://soundhealingloscabos.com/evento/hammock-beachside-17/
LOCATION:Hilton Los Cabos\, Carr. Transpeninsular\, Tourist Corridor\,\, Cabo San Lucas\, B.C.S.\, 23400\, Mexico
CATEGORIES:Beachide Hammock
ATTACH;FMTTYPE=image/jpeg:https://soundhealingloscabos.com/wp-content/uploads/2025/06/IMG_8673-copia-scaled-e1758238584915.jpg
ORGANIZER;CN="Sound Healing Los Cabos":MAILTO:info@soundhealingloscabos.com
END:VEVENT
BEGIN:VEVENT
DTSTART;TZID=America/Mazatlan:20260228T080000
DTEND;TZID=America/Mazatlan:20260228T090000
DTSTAMP:20260419T065927
CREATED:20260111T204018Z
LAST-MODIFIED:20260111T204018Z
UID:9652-1772265600-1772269200@soundhealingloscabos.com
SUMMARY:Hammocks Beachside
DESCRIPTION:MORNING VIBES | SOUND HEALING EN HAMACAS \n(SESION DE SOUND HEALING EN HAMACA + DAY PASS + DESCUENTO DEL 20% EN COMIDA Y BEBIDA) \nCOSTO LOCALES: $1599.00 YA CON IMPUESTOS INCLUIDOS \nCOSTO HUESPED: 2×1 en sesión de Sound Healing = 90.00 USD MAS TAX.
URL:https://soundhealingloscabos.com/evento/hammocks-beachside/
LOCATION:Hilton Los Cabos\, Carr. Transpeninsular\, Tourist Corridor\,\, Cabo San Lucas\, B.C.S.\, 23400\, Mexico
CATEGORIES:Beachide Hammock
ATTACH;FMTTYPE=image/jpeg:https://soundhealingloscabos.com/wp-content/uploads/2025/06/IMG_8673-copia-scaled-e1758238584915.jpg
ORGANIZER;CN="Sound Healing Los Cabos":MAILTO:info@soundhealingloscabos.com
END:VEVENT
END:VCALENDAR