BEGIN:VCALENDAR
VERSION:2.0
PRODID:-//Sound Healing Los Cabos - ECPv6.15.10//NONSGML v1.0//EN
CALSCALE:GREGORIAN
METHOD:PUBLISH
X-ORIGINAL-URL:https://soundhealingloscabos.com
X-WR-CALDESC:Eventos para Sound Healing Los Cabos
REFRESH-INTERVAL;VALUE=DURATION:PT1H
X-Robots-Tag:noindex
X-PUBLISHED-TTL:PT1H
BEGIN:VTIMEZONE
TZID:America/Mazatlan
BEGIN:STANDARD
TZOFFSETFROM:-0700
TZOFFSETTO:-0700
TZNAME:MST
DTSTART:20240101T000000
END:STANDARD
END:VTIMEZONE
BEGIN:VEVENT
DTSTART;TZID=America/Mazatlan:20251203T190000
DTEND;TZID=America/Mazatlan:20251203T200000
DTSTAMP:20260419T095020
CREATED:20250922T194850Z
LAST-MODIFIED:20251203T172638Z
UID:9382-1764788400-1764792000@soundhealingloscabos.com
SUMMARY:Luna llena en hamacas
DESCRIPTION:Acompáñanos a conectar con la energía de la luna llena de Diciembre. \n¡Vive la mágica experiencia!\nCrear una experiencia única de sanación y relajación profunda durante la luna llena\, utilizando el poder del sonido y la vibración en un entorno de hamacas que invite al descanso\, la introspección y la renovación energética.
URL:https://soundhealingloscabos.com/evento/luna-llena-en-hamacas-3/
LOCATION:Sound Healing Los Cabos\, Plaza San Basilio\, Gral. Juan Álvarez Local 23\, Piso 3\, Ampliación Juárez\,\, Cabo San Lucas\, B.C.S.\, 23469\, Mexico
CATEGORIES:Luna Llena
ATTACH;FMTTYPE=image/png:https://soundhealingloscabos.com/wp-content/uploads/2025/09/EstudioLunaLLena-scaled-e1758242222121.png
ORGANIZER;CN="Sound Healing Los Cabos":MAILTO:info@soundhealingloscabos.com
END:VEVENT
BEGIN:VEVENT
DTSTART;TZID=America/Mazatlan:20251206T080000
DTEND;TZID=America/Mazatlan:20251206T090000
DTSTAMP:20260419T095020
CREATED:20250922T201358Z
LAST-MODIFIED:20251127T185517Z
UID:9346-1765008000-1765011600@soundhealingloscabos.com
SUMMARY:Hammock Beachside
DESCRIPTION:MORNING VIBES | SOUND HEALING EN HAMACAS \n(SESION DE SOUND HEALING EN HAMACA + DAY PASS + DESCUENTO DEL 20% EN COMIDA Y BEBIDA) \nCOSTO LOCALES: $1599.00 YA CON IMPUESTOS INCLUIDOS \nCOSTO HUESPED: 2×1 en sesión de Sound Healing = 90.00 USD MAS TAX.
URL:https://soundhealingloscabos.com/evento/hammock-beachside-5/
LOCATION:Hilton Los Cabos\, Carr. Transpeninsular\, Tourist Corridor\,\, Cabo San Lucas\, B.C.S.\, 23400\, Mexico
CATEGORIES:Beachide Hammock
ATTACH;FMTTYPE=image/jpeg:https://soundhealingloscabos.com/wp-content/uploads/2025/06/IMG_8673-copia-scaled-e1758238584915.jpg
ORGANIZER;CN="Sound Healing Los Cabos":MAILTO:info@soundhealingloscabos.com
END:VEVENT
BEGIN:VEVENT
DTSTART;TZID=America/Mazatlan:20251213T080000
DTEND;TZID=America/Mazatlan:20251213T090000
DTSTAMP:20260419T095020
CREATED:20250922T201729Z
LAST-MODIFIED:20251127T185458Z
UID:9358-1765612800-1765616400@soundhealingloscabos.com
SUMMARY:Hammock Beachside
DESCRIPTION:MORNING VIBES | SOUND HEALING EN HAMACAS \n(SESION DE SOUND HEALING EN HAMACA + DAY PASS + DESCUENTO DEL 20% EN COMIDA Y BEBIDA) \nCOSTO LOCALES: $1599.00 YA CON IMPUESTOS INCLUIDOS \nCOSTO HUESPED: 2×1 en sesión de Sound Healing = 90.00 USD MAS TAX.
URL:https://soundhealingloscabos.com/evento/hammock-beachside-7/
LOCATION:Hilton Los Cabos\, Carr. Transpeninsular\, Tourist Corridor\,\, Cabo San Lucas\, B.C.S.\, 23400\, Mexico
CATEGORIES:Beachide Hammock
ATTACH;FMTTYPE=image/jpeg:https://soundhealingloscabos.com/wp-content/uploads/2025/06/IMG_8673-copia-scaled-e1758238584915.jpg
ORGANIZER;CN="Sound Healing Los Cabos":MAILTO:info@soundhealingloscabos.com
END:VEVENT
BEGIN:VEVENT
DTSTART;TZID=America/Mazatlan:20251220T080000
DTEND;TZID=America/Mazatlan:20251220T090000
DTSTAMP:20260419T095020
CREATED:20250922T201710Z
LAST-MODIFIED:20251127T185436Z
UID:9361-1766217600-1766221200@soundhealingloscabos.com
SUMMARY:Hammock Beachside
DESCRIPTION:MORNING VIBES | SOUND HEALING EN HAMACAS \n(SESION DE SOUND HEALING EN HAMACA + DAY PASS + DESCUENTO DEL 20% EN COMIDA Y BEBIDA) \nCOSTO LOCALES: $1599.00 YA CON IMPUESTOS INCLUIDOS \nCOSTO HUESPED: 2×1 en sesión de Sound Healing = 90.00 USD MAS TAX.
URL:https://soundhealingloscabos.com/evento/hammock-beachside-6/
LOCATION:Hilton Los Cabos\, Carr. Transpeninsular\, Tourist Corridor\,\, Cabo San Lucas\, B.C.S.\, 23400\, Mexico
CATEGORIES:Beachide Hammock
ATTACH;FMTTYPE=image/jpeg:https://soundhealingloscabos.com/wp-content/uploads/2025/06/IMG_8673-copia-scaled-e1758238584915.jpg
ORGANIZER;CN="Sound Healing Los Cabos":MAILTO:info@soundhealingloscabos.com
END:VEVENT
END:VCALENDAR