BEGIN:VCALENDAR
VERSION:2.0
PRODID:-//Sound Healing Los Cabos - ECPv6.15.10//NONSGML v1.0//EN
CALSCALE:GREGORIAN
METHOD:PUBLISH
X-ORIGINAL-URL:https://soundhealingloscabos.com
X-WR-CALDESC:Eventos para Sound Healing Los Cabos
REFRESH-INTERVAL;VALUE=DURATION:PT1H
X-Robots-Tag:noindex
X-PUBLISHED-TTL:PT1H
BEGIN:VTIMEZONE
TZID:America/Mazatlan
BEGIN:STANDARD
TZOFFSETFROM:-0700
TZOFFSETTO:-0700
TZNAME:MST
DTSTART:20250101T000000
END:STANDARD
END:VTIMEZONE
BEGIN:VEVENT
DTSTART;VALUE=DATE:20260101
DTEND;VALUE=DATE:20260105
DTSTAMP:20260419T151826
CREATED:20251202T200424Z
LAST-MODIFIED:20251202T200426Z
UID:9583-1767225600-1767571199@soundhealingloscabos.com
SUMMARY:New Year Sound Healing Sessions
DESCRIPTION:New Year Sound Healing Sessions — Private Family Experience en Cabo Real Beach \nCelebra el inicio del año en total armonía con nuestras New Year Sessions\, una experiencia privada de terapia de sonido diseñada especialmente para familias o grupos de hasta 4 personas.Sumérgete en un viaje sonoro profundo frente al mar\, acompañado del poder vibracional de cuencos tibetanos\, gongs y otros instrumentos ancestrales\, guiados por terapeutas certificados de Sound Healing Los Cabos. \nEstas sesiones están disponibles exclusivamente para visitantes internacionales del 1 al 4 de enero\, con horarios al atardecer: 5:00 PM y 6:30 PM\, en la hermosa playa de Cabo Real. \nEs un momento perfecto para renovar energía\, liberar tensiones y comenzar el año con claridad\, paz y bienestar en un entorno natural incomparable. \nCosto: $200 USDCapacidad: 4 personas (sesión privada) \nReserva ahora y regálate un inicio de año auténticamente transformador.
URL:https://soundhealingloscabos.com/evento/new-year-sound-healing-sessions/
LOCATION:Playa Cabo Real\, Tourist Corridor\, B.C.S.\, Cabo San Lucas\, Baja California Sur\, 23469\, Mexico
CATEGORIES:Especial,Promo
ATTACH;FMTTYPE=image/jpeg:https://soundhealingloscabos.com/wp-content/uploads/2025/12/2025_Promo_AnoNuevo_Instagram-ING-scaled-e1764705807629.jpg
ORGANIZER;CN="Sound Healing Los Cabos":MAILTO:info@soundhealingloscabos.com
END:VEVENT
END:VCALENDAR