BEGIN:VCALENDAR
VERSION:2.0
PRODID:-//Sound Healing Los Cabos - ECPv6.15.10//NONSGML v1.0//EN
CALSCALE:GREGORIAN
METHOD:PUBLISH
X-ORIGINAL-URL:https://soundhealingloscabos.com
X-WR-CALDESC:Eventos para Sound Healing Los Cabos
REFRESH-INTERVAL;VALUE=DURATION:PT1H
X-Robots-Tag:noindex
X-PUBLISHED-TTL:PT1H
BEGIN:VTIMEZONE
TZID:America/Mazatlan
BEGIN:STANDARD
TZOFFSETFROM:-0700
TZOFFSETTO:-0700
TZNAME:MST
DTSTART:20240101T000000
END:STANDARD
END:VTIMEZONE
BEGIN:VEVENT
DTSTART;TZID=America/Mazatlan:20251105T200000
DTEND;TZID=America/Mazatlan:20251105T213000
DTSTAMP:20260419T152236
CREATED:20250922T194417Z
LAST-MODIFIED:20250922T194417Z
UID:9374-1762372800-1762378200@soundhealingloscabos.com
SUMMARY:Full Moon & Floating Sound Bath
DESCRIPTION:FULL MOON Sessions at Hilton\n(SESION DE SOUND HEALING EN COLCHONES + DAY PASS + DESCUENTO DEL 20% EN COMIDAS Y BEBIDAS) \nCOSTO LOCALES: $1599.00 YA CON IMPUESTOS INCLUIDOS \nCOSTO HUESPED: 2X1 en sesión de SOUND HEALING = $ 90.00 USD MAS TAX
URL:https://soundhealingloscabos.com/evento/full-moon-floating-sound-bath/
LOCATION:Hilton Los Cabos\, Carr. Transpeninsular\, Tourist Corridor\,\, Cabo San Lucas\, B.C.S.\, 23400\, Mexico
CATEGORIES:Floating Sound Healing
ATTACH;FMTTYPE=image/jpeg:https://soundhealingloscabos.com/wp-content/uploads/2025/06/HEALING-SOUND-HILTON-37-scaled.jpg
ORGANIZER;CN="Sound Healing Los Cabos":MAILTO:info@soundhealingloscabos.com
END:VEVENT
END:VCALENDAR