BEGIN:VCALENDAR
VERSION:2.0
PRODID:-//Sound Healing Los Cabos - ECPv6.15.10//NONSGML v1.0//EN
CALSCALE:GREGORIAN
METHOD:PUBLISH
X-ORIGINAL-URL:https://soundhealingloscabos.com
X-WR-CALDESC:Eventos para Sound Healing Los Cabos
REFRESH-INTERVAL;VALUE=DURATION:PT1H
X-Robots-Tag:noindex
X-PUBLISHED-TTL:PT1H
BEGIN:VTIMEZONE
TZID:America/Mazatlan
BEGIN:STANDARD
TZOFFSETFROM:-0700
TZOFFSETTO:-0700
TZNAME:MST
DTSTART:20250101T000000
END:STANDARD
END:VTIMEZONE
BEGIN:VEVENT
DTSTART;TZID=America/Mazatlan:20260103T190000
DTEND;TZID=America/Mazatlan:20260103T203000
DTSTAMP:20260419T100314
CREATED:20251203T175904Z
LAST-MODIFIED:20251203T175904Z
UID:9594-1767466800-1767472200@soundhealingloscabos.com
SUMMARY:Full Moon & Floating Sound Bath
DESCRIPTION:FULL MOON Sessions at Hilton\n(SESION DE SOUND HEALING EN COLCHONES + DAY PASS + DESCUENTO DEL 20% EN COMIDAS Y BEBIDAS) \nCOSTO LOCALES: $1599.00 YA CON IMPUESTOS INCLUIDOS \nCOSTO HUESPED: 2X1 en sesión de SOUND HEALING = $ 90.00 USD MAS TAX
URL:https://soundhealingloscabos.com/evento/full-moon-floating-sound-bath-3/
LOCATION:Hilton Los Cabos\, Carr. Transpeninsular\, Tourist Corridor\,\, Cabo San Lucas\, B.C.S.\, 23400\, Mexico
CATEGORIES:Floating Sound Healing,Luna Llena
ATTACH;FMTTYPE=image/jpeg:https://soundhealingloscabos.com/wp-content/uploads/2025/06/HEALING-SOUND-HILTON-37-scaled.jpg
ORGANIZER;CN="Sound Healing Los Cabos":MAILTO:info@soundhealingloscabos.com
END:VEVENT
BEGIN:VEVENT
DTSTART;TZID=America/Mazatlan:20260131T180000
DTEND;TZID=America/Mazatlan:20260131T193000
DTSTAMP:20260419T100314
CREATED:20251113T182344Z
LAST-MODIFIED:20251203T174617Z
UID:9536-1769882400-1769887800@soundhealingloscabos.com
SUMMARY:Sound Healing en colchones
DESCRIPTION:✨ Sound Healing en Colchones ✨Este sábado 31 de Enero a las 6:00 PM ven a vivir una experiencia única en We Swim Cabo. \nImagina recostarte en un colchón\, cerrar los ojos y dejar que la vibración del sonido te envuelva\, relajando tu cuerpo y tu mente en profundidad. \n Sesión abierta al público en general – no necesitas experiencia previa\, solo tus ganas de regalarte un momento de paz. \n⚠️ Cupo limitado: reserva tu lugar enviando mensaje por WhatsApp. \nNo dejes pasar esta oportunidad de conectar con el poder sanador del sonido en un espacio cómodo y especial.
URL:https://soundhealingloscabos.com/evento/sound-healing-en-colchones-5/
LOCATION:We Swim Aquatics\, Carr. Transpeninsular km 6.5\, Fracc. Sierra Dorada\,\, Cabo San Lucas\, B.C.S.\, 23455\, Mexico
CATEGORIES:Floating Sound Healing
ATTACH;FMTTYPE=image/png:https://soundhealingloscabos.com/wp-content/uploads/2025/12/colchones-scaled-e1764783869520.png
ORGANIZER;CN="Sound Healing Los Cabos":MAILTO:info@soundhealingloscabos.com
END:VEVENT
END:VCALENDAR